BEGIN:VCALENDAR
VERSION:2.0
PRODID:-//Intand Corporation//Tandem//EN
METHOD:PUBLISH
BEGIN:VEVENT
DTSTAMP:20260421T171258Z
DTSTART:20260424T203000Z
DTEND:20260425T035959Z
TRANSP:TRANSPARENT
PRIORITY:0
SUMMARY:Mod Boys Lacrosse vs Suffern
LOCATION:Pearl River Middle School
DESCRIPTION:Breakdown: TBD\n\nReturn: TBD\n\nGroups:\nModified Boys Lacros
 se\n\nSchools:\nPearl River Middle School\n\nLocation:\nPearl River Middle
  School\n\n
URL;VALUE=URI:http://pearlriver.tandem.co/index.php?type=view&action=event
 &id=96200
CREATED:20260219T155911Z
LAST-MODIFIED:20260219T155911Z
UID:event-96200-pearlriver@intand.com
END:VEVENT
END:VCALENDAR
