BEGIN:VCALENDAR
VERSION:2.0
PRODID:-//Intand Corporation//Tandem//EN
METHOD:PUBLISH
BEGIN:VEVENT
DTSTAMP:20260421T140322Z
DTSTART:20260508T213000Z
DTEND:20260509T035959Z
TRANSP:TRANSPARENT
PRIORITY:0
SUMMARY:Varsity Girls Track @ Friendship Games
LOCATION:WARWICK VALLEY HIGH SCHOOL
DESCRIPTION:Breakdown: TBD\n\nReturn: TBD\n\nGroups:\nVarsity Girls Outdoo
 r Track\n\nSchools:\nPearl River High School\nWARWICK VALLEY HIGH SCHOOL\n
 \nLocation:\nWARWICK VALLEY HIGH SCHOOL\n\n
URL;VALUE=URI:http://pearlriver.tandem.co/index.php?type=view&action=event
 &id=96223
CREATED:20260225T163023Z
LAST-MODIFIED:20260225T163024Z
UID:event-96223-pearlriver@intand.com
END:VEVENT
END:VCALENDAR
