BEGIN:VCALENDAR
VERSION:2.0
PRODID:-//Intand Corporation//Tandem//EN
METHOD:PUBLISH
BEGIN:VEVENT
DTSTAMP:20260421T134949Z
DTSTART:20260509T150000Z
DTEND:20260510T035959Z
TRANSP:TRANSPARENT
PRIORITY:0
SUMMARY:JV Softball @ Rye
LOCATION:Rye High/Middle School
DESCRIPTION:Breakdown: TBD\n\nReturn: TBD\n\nGroups:\nJV Softball\n\nSchoo
 ls:\nPearl River High School\n\nLocation:\nRye High/Middle School\n\n
URL;VALUE=URI:http://pearlriver.tandem.co/index.php?type=view&action=event
 &id=96282
CREATED:20260317T131041Z
LAST-MODIFIED:20260317T131041Z
UID:event-96282-pearlriver@intand.com
END:VEVENT
END:VCALENDAR
