BEGIN:VCALENDAR
VERSION:2.0
PRODID:-//Intand Corporation//Tandem//EN
METHOD:PUBLISH
BEGIN:VEVENT
DTSTAMP:20260423T170415Z
DTSTART:20260420T203000Z
DTEND:20260421T035959Z
TRANSP:TRANSPARENT
PRIORITY:0
SUMMARY:JV Baseball vs Ossining
LOCATION:Pearl River High School
DESCRIPTION:Breakdown: TBD\n\nReturn: TBD\n\nGroups:\nJV Baseball\n\nSchoo
 ls:\nPearl River High School\n\nLocation:\nPearl River High School\n\n
URL;VALUE=URI:https://pearlriver.tandem.co/index.php?type=view&action=even
 t&id=96108
CREATED:20260202T184848Z
LAST-MODIFIED:20260202T184848Z
UID:event-96108-pearlriver@intand.com
END:VEVENT
END:VCALENDAR
