BEGIN:VCALENDAR
VERSION:2.0
PRODID:-//Intand Corporation//Tandem//EN
METHOD:PUBLISH
BEGIN:VEVENT
DTSTAMP:20260423T170230Z
DTSTART:20260413T204500Z
DTEND:20260414T035959Z
TRANSP:TRANSPARENT
PRIORITY:0
SUMMARY:Mod Baseball vs Suffern
LOCATION:Pearl River Middle School
DESCRIPTION:Breakdown: TBD\n\nReturn: TBD\n\nGroups:\nModified Baseball\n\
 nSchools:\nPearl River Middle School\n\nLocation:\nPearl River Middle Scho
 ol\n\n
URL;VALUE=URI:https://pearlriver.tandem.co/index.php?type=view&action=even
 t&id=96181
CREATED:20260211T190633Z
LAST-MODIFIED:20260410T172828Z
UID:event-96181-pearlriver@intand.com
END:VEVENT
END:VCALENDAR
